BEGIN:VCALENDAR
VERSION:2.0
PRODID:-//somervillecivicleague.org//NONSGML kigkonsult.se iCalcreator 2.30
 .10//
CALSCALE:GREGORIAN
METHOD:PUBLISH
UID:44175db7-0153-4c09-bf08-41a7f56927db
X-WR-CALDESC:
X-WR-RELCALID:8a2e1fff50d19458dbff3125f24de0b1
X-WR-TIMEZONE:America/New_York
BEGIN:VTIMEZONE
TZID:America/New_York
BEGIN:STANDARD
TZNAME:EST
DTSTART:20251102T020000
TZOFFSETFROM:-0400
TZOFFSETTO:-0500
RDATE:20261101T020000
RDATE:20271107T020000
END:STANDARD
BEGIN:DAYLIGHT
TZNAME:EDT
DTSTART:20260308T020000
TZOFFSETFROM:-0500
TZOFFSETTO:-0400
RDATE:20270314T020000
END:DAYLIGHT
END:VTIMEZONE
BEGIN:VEVENT
UID:189bd626-936d-40d1-9cd7-9e83468211a0
DTSTAMP:20260424T102337Z
DESCRIPTION:
DTSTART;TZID=America/New_York:20260623T183000
DTEND;TZID=America/New_York:20260623T200000
LOCATION:St. John's Episcopal Church\, 158 W. High Street\, Somerville\, NJ
  08876 US
SUMMARY:Monthly Meeting
END:VEVENT
END:VCALENDAR
