BEGIN:VCALENDAR
VERSION:2.0
PRODID:-//somervillecivicleague.org//NONSGML kigkonsult.se iCalcreator 2.30
 .10//
CALSCALE:GREGORIAN
METHOD:PUBLISH
UID:e9ca8dc5-af62-4aa3-87d6-a2228cfe6e70
X-WR-CALDESC:
X-WR-RELCALID:3c3c6908fad59a680f64592b836a2d83
X-WR-TIMEZONE:America/New_York
BEGIN:VTIMEZONE
TZID:America/New_York
BEGIN:STANDARD
TZNAME:EST
DTSTART:20251102T020000
TZOFFSETFROM:-0400
TZOFFSETTO:-0500
RDATE:20261101T020000
RDATE:20271107T020000
END:STANDARD
BEGIN:DAYLIGHT
TZNAME:EDT
DTSTART:20260308T020000
TZOFFSETFROM:-0500
TZOFFSETTO:-0400
RDATE:20270314T020000
END:DAYLIGHT
END:VTIMEZONE
BEGIN:VEVENT
UID:ac1393cd-50d5-42f8-abfe-5ee0ed0206d5
DTSTAMP:20260422T110150Z
DESCRIPTION:
DTSTART;TZID=America/New_York:20260621T060000
DTEND;TZID=America/New_York:20260621T060001
LOCATION:
SUMMARY:Father's Day
END:VEVENT
END:VCALENDAR
