BEGIN:VCALENDAR
VERSION:2.0
PRODID:-//somervillecivicleague.org//NONSGML kigkonsult.se iCalcreator 2.30
 .10//
CALSCALE:GREGORIAN
METHOD:PUBLISH
UID:de140d7d-5741-4453-97a7-e7ca0cdf57be
X-WR-CALDESC:
X-WR-RELCALID:a4e1ce1c3909cb031674654033562008
X-WR-TIMEZONE:America/New_York
BEGIN:VTIMEZONE
TZID:America/New_York
BEGIN:STANDARD
TZNAME:EST
DTSTART:20251102T020000
TZOFFSETFROM:-0400
TZOFFSETTO:-0500
RDATE:20261101T020000
RDATE:20271107T020000
END:STANDARD
BEGIN:DAYLIGHT
TZNAME:EDT
DTSTART:20260308T020000
TZOFFSETFROM:-0500
TZOFFSETTO:-0400
RDATE:20270314T020000
END:DAYLIGHT
END:VTIMEZONE
BEGIN:VEVENT
UID:516d7556-70c9-4e3d-915a-590d1f2f21a2
DTSTAMP:20260420T081832Z
DESCRIPTION:
DTSTART;TZID=America/New_York:20260614T213000
DTEND;TZID=America/New_York:20260614T223000
LOCATION:
SUMMARY:Flag Day
END:VEVENT
END:VCALENDAR
