BEGIN:VCALENDAR
VERSION:2.0
PRODID:-//somervillecivicleague.org//NONSGML kigkonsult.se iCalcreator 2.30
 .10//
CALSCALE:GREGORIAN
METHOD:PUBLISH
UID:a6fb952d-85d8-4055-ba45-dfdb5dd771db
X-WR-CALDESC:
X-WR-RELCALID:a255929e60c9eeb944c8c1ba0a270260
X-WR-TIMEZONE:America/New_York
BEGIN:VTIMEZONE
TZID:America/New_York
BEGIN:STANDARD
TZNAME:EST
DTSTART:20251102T020000
TZOFFSETFROM:-0400
TZOFFSETTO:-0500
RDATE:20261101T020000
END:STANDARD
BEGIN:DAYLIGHT
TZNAME:EDT
DTSTART:20260308T020000
TZOFFSETFROM:-0500
TZOFFSETTO:-0400
RDATE:20270314T020000
END:DAYLIGHT
END:VTIMEZONE
BEGIN:VEVENT
UID:ccc3a8ec-bf28-4119-8988-ae21e659a8d8
DTSTAMP:20260420T082853Z
DESCRIPTION:
DTSTART;TZID=America/New_York:20260501T060000
DTEND;TZID=America/New_York:20260501T060001
LOCATION:
SUMMARY:Annual Dues & Blue Sheets Due
END:VEVENT
END:VCALENDAR
